BEGIN:VCALENDAR
VERSION:2.0
PRODID:-//Kenniscentrum Hoogbegaafdheid - ECPv6.15.18//NONSGML v1.0//EN
CALSCALE:GREGORIAN
METHOD:PUBLISH
X-ORIGINAL-URL:https://kenniscentrumhb.nl
X-WR-CALDESC:Evenementen voor Kenniscentrum Hoogbegaafdheid
REFRESH-INTERVAL;VALUE=DURATION:PT1H
X-Robots-Tag:noindex
X-PUBLISHED-TTL:PT1H
BEGIN:VTIMEZONE
TZID:Europe/Helsinki
BEGIN:DAYLIGHT
TZOFFSETFROM:+0200
TZOFFSETTO:+0300
TZNAME:EEST
DTSTART:20230326T010000
END:DAYLIGHT
BEGIN:STANDARD
TZOFFSETFROM:+0300
TZOFFSETTO:+0200
TZNAME:EET
DTSTART:20231029T010000
END:STANDARD
BEGIN:DAYLIGHT
TZOFFSETFROM:+0200
TZOFFSETTO:+0300
TZNAME:EEST
DTSTART:20240331T010000
END:DAYLIGHT
BEGIN:STANDARD
TZOFFSETFROM:+0300
TZOFFSETTO:+0200
TZNAME:EET
DTSTART:20241027T010000
END:STANDARD
BEGIN:DAYLIGHT
TZOFFSETFROM:+0200
TZOFFSETTO:+0300
TZNAME:EEST
DTSTART:20250330T010000
END:DAYLIGHT
BEGIN:STANDARD
TZOFFSETFROM:+0300
TZOFFSETTO:+0200
TZNAME:EET
DTSTART:20251026T010000
END:STANDARD
END:VTIMEZONE
BEGIN:VEVENT
DTSTART;TZID=Europe/Helsinki:20240917T160000
DTEND;TZID=Europe/Helsinki:20240917T173000
DTSTAMP:20260419T223945
CREATED:20240703T145702Z
LAST-MODIFIED:20240904T092517Z
UID:10000011-1726588800-1726594200@kenniscentrumhb.nl
SUMMARY:Webinar Dubbel bijzondere leerlingen
DESCRIPTION:Ook in het schooljaar 2024-2025 organiseert het Kenniscentrum Hoogbegaafdheid elke maand een webinar\, op 17 september is het thema dubbel bijzondere leerlingen. \nBij sommige leerlingen met kenmerken van (hoog)begaafdheid gaat het leren of ontwikkelen\, ‘ondanks’ hun uitzonderlijk hoge cognitieve capaciteiten\, niet altijd vanzelf. Daar kunnen allerlei redenen voor zijn (zie bijvoorbeeld de brochure over Onderpresteren). Soms is er echter meer aan de hand. Er kan namelijk naast de hoge cognitieve capaciteit sprake zijn van kenmerken van een leer-\, ontwikkelings- en/of gedragsprobleem. In de Nederlandstalige literatuur worden leerlingen bij wie er sprake is van deze combinatie van hoge cognitieve capaciteiten en bijkomende problemen vaak ‘dubbel bijzonder’ genoemd. In de Engelstalige wetenschappelijke literatuur wordt hiervoor de term ‘twice-exceptional’ gebruikt. \nDe groep leerlingen die dubbel bijzonder genoemd worden is zeer divers. Er bestaat dus niet zoiets als ‘De’ dubbel bijzondere leerling en bij gevolg bestaat er ook niet zoiets als ‘De’ beste interventie. In dit webinar gaat Mariëlle Wittelings in op de theorie over dubbel bijzondere leerlingen. In het tweede deel van het webinar gaat een panel van drie educatieve professionals met elkaar in gesprek over de praktijk van het onderwijs aan dubbel bijzondere leerlingen. \nMariëlle Wittelings is promovendus binnen het Behavioural Science Institute (BSI) van de Radboud Universiteit. In haar onderzoek\, begeleid door Prof. dr. Lianne Hoogeveen en Prof. dr. Evelyn Kroesbergen\, richt zij zich op de identificatie en (speciale) onderwijsbehoeften van getalenteerde en dubbel bijzondere leerlingen. Marielle is met name geïnteresseerd in het herkennen van individuele verschillen binnen en tussen leerlingen en benaderingen die uitgaan van individuele sterktes en behoefte. \nSchrijf je in via deze link.
URL:https://kenniscentrumhb.nl/agenda/webinar-dubbel-bijzondere-leerlingen/
LOCATION:Online
CATEGORIES:Online
END:VEVENT
END:VCALENDAR