BEGIN:VCALENDAR
VERSION:2.0
PRODID:-//Kenniscentrum Hoogbegaafdheid - ECPv6.15.18//NONSGML v1.0//EN
CALSCALE:GREGORIAN
METHOD:PUBLISH
X-ORIGINAL-URL:https://kenniscentrumhb.nl
X-WR-CALDESC:Evenementen voor Kenniscentrum Hoogbegaafdheid
REFRESH-INTERVAL;VALUE=DURATION:PT1H
X-Robots-Tag:noindex
X-PUBLISHED-TTL:PT1H
BEGIN:VTIMEZONE
TZID:Europe/Helsinki
BEGIN:DAYLIGHT
TZOFFSETFROM:+0200
TZOFFSETTO:+0300
TZNAME:EEST
DTSTART:20230326T010000
END:DAYLIGHT
BEGIN:STANDARD
TZOFFSETFROM:+0300
TZOFFSETTO:+0200
TZNAME:EET
DTSTART:20231029T010000
END:STANDARD
BEGIN:DAYLIGHT
TZOFFSETFROM:+0200
TZOFFSETTO:+0300
TZNAME:EEST
DTSTART:20240331T010000
END:DAYLIGHT
BEGIN:STANDARD
TZOFFSETFROM:+0300
TZOFFSETTO:+0200
TZNAME:EET
DTSTART:20241027T010000
END:STANDARD
BEGIN:DAYLIGHT
TZOFFSETFROM:+0200
TZOFFSETTO:+0300
TZNAME:EEST
DTSTART:20250330T010000
END:DAYLIGHT
BEGIN:STANDARD
TZOFFSETFROM:+0300
TZOFFSETTO:+0200
TZNAME:EET
DTSTART:20251026T010000
END:STANDARD
END:VTIMEZONE
BEGIN:VEVENT
DTSTART;TZID=Europe/Helsinki:20241127T150000
DTEND;TZID=Europe/Helsinki:20241127T163000
DTSTAMP:20260419T182719
CREATED:20240927T111334Z
LAST-MODIFIED:20241104T153233Z
UID:10000018-1732719600-1732725000@kenniscentrumhb.nl
SUMMARY:Webinar: Bevindingen van het monitoronderzoek naar de subsidieregeling ‘Begaafdheid in po en vo 2019-2024’
DESCRIPTION:Het ministerie van OCW heeft subsidie beschikbaar gesteld dat in de periode 2019-2024 besteed kon worden om het primair en voortgezet onderwijs te stimuleren een passend onderwijs- en ondersteuningsaanbod voor (hoog)begaafde leerlingen in te richten. In het monitoronderzoek heeft Oberon de besteding van subsidiemiddelen in kaart gebracht. Het onderzoek liep van 2019 tot en met 2024 en rapporteerde jaarlijks de bevindingen op basis van verschillende bronnen. \nIn dit webinar blikt Oberon terug op de beoogde plannen in het primair en voortgezet onderwijs voor de besteding van de middelen\, de realisatie van die plannen\, de mate waarin subsidiedoelen zijn behaald en maatregelen die zijn genomen om de subsidieactiviteiten te borgen. \nMeld je hier aan….
URL:https://kenniscentrumhb.nl/agenda/webinar-oberon-po-over-subsidie/
CATEGORIES:Online
END:VEVENT
END:VCALENDAR