BEGIN:VCALENDAR
VERSION:2.0
PRODID:-//Kenniscentrum Hoogbegaafdheid - ECPv6.15.18//NONSGML v1.0//EN
CALSCALE:GREGORIAN
METHOD:PUBLISH
X-ORIGINAL-URL:https://kenniscentrumhb.nl
X-WR-CALDESC:Evenementen voor Kenniscentrum Hoogbegaafdheid
REFRESH-INTERVAL;VALUE=DURATION:PT1H
X-Robots-Tag:noindex
X-PUBLISHED-TTL:PT1H
BEGIN:VTIMEZONE
TZID:Europe/Helsinki
BEGIN:DAYLIGHT
TZOFFSETFROM:+0200
TZOFFSETTO:+0300
TZNAME:EEST
DTSTART:20240331T010000
END:DAYLIGHT
BEGIN:STANDARD
TZOFFSETFROM:+0300
TZOFFSETTO:+0200
TZNAME:EET
DTSTART:20241027T010000
END:STANDARD
BEGIN:DAYLIGHT
TZOFFSETFROM:+0200
TZOFFSETTO:+0300
TZNAME:EEST
DTSTART:20250330T010000
END:DAYLIGHT
BEGIN:STANDARD
TZOFFSETFROM:+0300
TZOFFSETTO:+0200
TZNAME:EET
DTSTART:20251026T010000
END:STANDARD
BEGIN:DAYLIGHT
TZOFFSETFROM:+0200
TZOFFSETTO:+0300
TZNAME:EEST
DTSTART:20260329T010000
END:DAYLIGHT
BEGIN:STANDARD
TZOFFSETFROM:+0300
TZOFFSETTO:+0200
TZNAME:EET
DTSTART:20261025T010000
END:STANDARD
END:VTIMEZONE
BEGIN:VEVENT
DTSTART;TZID=Europe/Helsinki:20250115T143000
DTEND;TZID=Europe/Helsinki:20250115T160000
DTSTAMP:20260419T165046
CREATED:20241206T095846Z
LAST-MODIFIED:20241218T150457Z
UID:10000056-1736951400-1736956800@kenniscentrumhb.nl
SUMMARY:Gluren bij de buren - Uitwisselingsbijeenkomst voor samenwerkingsverbanden: Monitoren van projecten\, hoe doe je dat?
DESCRIPTION:Ben je lid van een werkgroep (hoog)begaafdheid binnen een samenwerkingsverband en wil je graag leren van hoe dingen in ander samenwerkingsverband zijn geregeld? Dan is dit je kans! \nHet landelijk Kenniscentrum Hoogbegaafdheid (KCHB) organiseert dit schooljaar 13 uitwisselingsbijeenkomsten onder de titel ‘Gluren bij de buren’. Elke uitwisselingssessie heeft een eigen thema. De thema’s sluiten aan bij de onderwerpen die samenwerkingsverbanden – al dan niet vanuit subsidiegelden – bij de kop pakken om het onderwijs aan begaafde leerlingen passender te maken. \nTijdens deze sterk interactieve bijeenkomsten is het nadrukkelijk de bedoeling dat je jouw ervaringen gaat delen. Het gaat zowel om successen als om vragen die jullie eigen projecten op inhoud en op organisatievorm oproepen. Het gaat dus echt om leren mét en van elkaar\, het is dus zowel ‘halen als brengen’. \nDe sessie worden door verschillende voorzitters geleid. De voorzitters zijn je collega’s uit het werkveld. Zij zijn net als jij werkzaam bij een samenwerkingsverband en hebben zich gespecialiseerd in (hoog)begaafdheid. \nVan deze bijeenkomsten worden géén opnames gemaakt i.v.m. het interactieve karakter van de bijeenkomsten. \nOver deze bijeenkomst \nHoe weet je of de doelen van (subsidie) projecten worden gerealiseerd? En op welke manier monitor je dit? Tijdens deze uitwisselingssessie staat het delen van ervaringen rondom het monitoren van activiteiten of projecten centraal. We reflecteren met elkaar op hoe de voortgang en resultaten van hoogbegaafdheidsactiviteiten of projecten worden gevolgd. \nVoorzitter van deze bijeenkomst is Nina Oosterveen. \nVoor wie \n\nJe bent werkzaam als educatieve professional in het onderwijs en neemt deel als lid van een bovenschoolse werkgroep (hoog)begaafdheid\, ofwel op bestuursniveau ofwel op niveau van een samenwerkingsverband.\nJe bent vanuit die rol betrokken bij de opzet en/of uitvoering van activiteiten met betrekking tot onderwijs aan leerlingen met kenmerken van begaafdheid binnen de organisatie waarvoor je in de werkgroep deelneemt.\n\nAantal deelnemers per sessie \n\nMinimaal 3 deelnemers van 3 verschillende samenwerkingsverbanden.\nMaximaal 12-16 personen per sessie\n\nAanwezigheid \nJe schrijft je voor elke bijeenkomst apart in. Er geldt geen aanwezigheidsplicht na inschrijving. Wel verwachten we dat als je onverhoopt verhinderd bent dat jij je afmeldt via het contactformulier op de website. \nAanmelden \nJe kunt je aanmelden via dit formulier. \n 
URL:https://kenniscentrumhb.nl/agenda/uitwisselingsbijeenkomst-voor-samenwerkingsverbanden-monitoren-van-projecten-hoe-doe-je-dat/
CATEGORIES:Online
END:VEVENT
END:VCALENDAR