BEGIN:VCALENDAR
VERSION:2.0
PRODID:-//Kenniscentrum Hoogbegaafdheid - ECPv6.15.18//NONSGML v1.0//EN
CALSCALE:GREGORIAN
METHOD:PUBLISH
X-ORIGINAL-URL:https://kenniscentrumhb.nl
X-WR-CALDESC:Evenementen voor Kenniscentrum Hoogbegaafdheid
REFRESH-INTERVAL;VALUE=DURATION:PT1H
X-Robots-Tag:noindex
X-PUBLISHED-TTL:PT1H
BEGIN:VTIMEZONE
TZID:Europe/Helsinki
BEGIN:DAYLIGHT
TZOFFSETFROM:+0200
TZOFFSETTO:+0300
TZNAME:EEST
DTSTART:20240331T010000
END:DAYLIGHT
BEGIN:STANDARD
TZOFFSETFROM:+0300
TZOFFSETTO:+0200
TZNAME:EET
DTSTART:20241027T010000
END:STANDARD
BEGIN:DAYLIGHT
TZOFFSETFROM:+0200
TZOFFSETTO:+0300
TZNAME:EEST
DTSTART:20250330T010000
END:DAYLIGHT
BEGIN:STANDARD
TZOFFSETFROM:+0300
TZOFFSETTO:+0200
TZNAME:EET
DTSTART:20251026T010000
END:STANDARD
BEGIN:DAYLIGHT
TZOFFSETFROM:+0200
TZOFFSETTO:+0300
TZNAME:EEST
DTSTART:20260329T010000
END:DAYLIGHT
BEGIN:STANDARD
TZOFFSETFROM:+0300
TZOFFSETTO:+0200
TZNAME:EET
DTSTART:20261025T010000
END:STANDARD
END:VTIMEZONE
BEGIN:VEVENT
DTSTART;TZID=Europe/Helsinki:20250129T080000
DTEND;TZID=Europe/Helsinki:20250129T090000
DTSTAMP:20260419T151605
CREATED:20240927T113217Z
LAST-MODIFIED:20241214T110933Z
UID:10000027-1738137600-1738141200@kenniscentrumhb.nl
SUMMARY:International webinar Twice-exceptional Learners
DESCRIPTION:In het schooljaar 2024-2025 organiseert het Kenniscentrum Hoogbegaafdheid bijna elke maand een international webinar. Tijdens die webinars is Engels de voertaal. Deze webinars zijn bedoeld voor educatieve professionals en zorg- en hulpverleners die beschikken over een brede kennisbasis met betrekking tot hoogbegaafdheid\, maar niet over de mogelijkheid beschikken om deel te nemen aan internationale in-person activiteiten zoals grote internationale congressen. Op 29 januari geeft Dr Michelle Ronksley-Pavia het volgende webinar: \nDifferent Conceptualizations of Strength-Based Methodologies and Practices for Twice-Exceptional Neurodiverse Learners: Teacher and Family Perspectives\nDr Michelle Ronksley-Pavia will present one of her innovative research projects that explored the distinct ways parents\, students\, and educators conceptualise twice-exceptional learners’ strengths. Her findings reveal insightful contrasts—while teachers often focused on measurable academic achievements and classroom-oriented behaviours\, parents and students identified broader cognitive traits\, creative abilities\, and intrinsic qualities. This webinar explores these different perspectives across academic\, behavioural\, emotional\, and cognitive domains\, examining how these varying viewpoints may impact educational approaches and student outcomes. Learn how understanding these different conceptualisations can potentially lead to more effective support strategies for neurodiverse twice-exceptional learners. \nDr Michelle Ronksley-Pavia Biography\nDr Michelle Ronksley-Pavia is a Senior Lecturer in Special Education and Inclusive Education at Griffith University\, Australia\, where she directs the Graduate Certificate in Special Education program. An internationally recognised researcher in gifted education and twice-exceptionality\, she brings over two decades of expertise in neurodiversity and exceptional learner populations. Her research focuses on understanding complex intersectionalities in twice-exceptional and multi-exceptional learners\, with particular emphasis on underserved gifted populations and generative artificial intelligence (GenAI). As an Australian Delegate to the World Council for Gifted and Talented Children (WCGTC)\, she contributed to the development of Global Principles for Professional Learning in Gifted Education. Dr Ronksley-Pavia’s scholarly work spans empirical research\, theoretical development\, and practical applications in supporting diverse exceptional learners\, reflected in her extensive publication record in international journals and books. \nMeld je hier aan… \n 
URL:https://kenniscentrumhb.nl/agenda/international-webinar-twice-exceptional-learners/
CATEGORIES:Online
END:VEVENT
END:VCALENDAR