BEGIN:VCALENDAR
VERSION:2.0
PRODID:-//Kenniscentrum Hoogbegaafdheid - ECPv6.15.18//NONSGML v1.0//EN
CALSCALE:GREGORIAN
METHOD:PUBLISH
X-ORIGINAL-URL:https://kenniscentrumhb.nl
X-WR-CALDESC:Evenementen voor Kenniscentrum Hoogbegaafdheid
REFRESH-INTERVAL;VALUE=DURATION:PT1H
X-Robots-Tag:noindex
X-PUBLISHED-TTL:PT1H
BEGIN:VTIMEZONE
TZID:Europe/Helsinki
BEGIN:DAYLIGHT
TZOFFSETFROM:+0200
TZOFFSETTO:+0300
TZNAME:EEST
DTSTART:20240331T010000
END:DAYLIGHT
BEGIN:STANDARD
TZOFFSETFROM:+0300
TZOFFSETTO:+0200
TZNAME:EET
DTSTART:20241027T010000
END:STANDARD
BEGIN:DAYLIGHT
TZOFFSETFROM:+0200
TZOFFSETTO:+0300
TZNAME:EEST
DTSTART:20250330T010000
END:DAYLIGHT
BEGIN:STANDARD
TZOFFSETFROM:+0300
TZOFFSETTO:+0200
TZNAME:EET
DTSTART:20251026T010000
END:STANDARD
BEGIN:DAYLIGHT
TZOFFSETFROM:+0200
TZOFFSETTO:+0300
TZNAME:EEST
DTSTART:20260329T010000
END:DAYLIGHT
BEGIN:STANDARD
TZOFFSETFROM:+0300
TZOFFSETTO:+0200
TZNAME:EET
DTSTART:20261025T010000
END:STANDARD
END:VTIMEZONE
BEGIN:VEVENT
DTSTART;TZID=Europe/Helsinki:20250203T143000
DTEND;TZID=Europe/Helsinki:20250203T160000
DTSTAMP:20260419T151711
CREATED:20241206T101640Z
LAST-MODIFIED:20241218T151441Z
UID:10000058-1738593000-1738598400@kenniscentrumhb.nl
SUMMARY:Gluren bij de buren - Uitwisselingsbijeenkomst samenwerkingsverbanden: Onderwijs en zorg
DESCRIPTION:Ben je lid van een werkgroep (hoog)begaafdheid binnen een samenwerkingsverband en wil je graag leren van hoe dingen in ander samenwerkingsverband zijn geregeld? Dan is dit je kans! \nHet landelijk Kenniscentrum Hoogbegaafdheid (KCHB) organiseert dit schooljaar 13 uitwisselingsbijeenkomsten onder de titel ‘Gluren bij de buren’. Elke uitwisselingssessie heeft een eigen thema. De thema’s sluiten aan bij de onderwerpen die samenwerkingsverbanden – al dan niet vanuit subsidiegelden – bij de kop pakken om het onderwijs aan begaafde leerlingen passender te maken. \nTijdens deze sterk interactieve bijeenkomsten is het nadrukkelijk de bedoeling dat je jouw ervaringen gaat delen. Het gaat zowel om successen als om vragen die jullie eigen projecten op inhoud en op organisatievorm oproepen. Het gaat dus echt om leren mét en van elkaar\, het is dus zowel ‘halen als brengen’. \nDe sessie worden door verschillende voorzitters geleid. De voorzitters zijn je collega’s uit het werkveld. Zij zijn net als jij werkzaam bij een samenwerkingsverband en hebben zich gespecialiseerd in (hoog)begaafdheid. \nVan deze bijeenkomsten worden géén opnames gemaakt i.v.m. het interactieve karakter van de bijeenkomsten. \nOver deze bijeenkomst \nBij dit thema weten we dat het van groot belang is dat zowel onderwijsinstellingen als zorgverleners hoogbegaafde kinderen begrijpen in al hun complexiteit. Hier hebben we elke dag mee te maken binnen onze Samenwerkingsverbanden. Maar hoe werken we effectief met de zorg samen? Wat zijn helpende structuren? Tijdens deze bijeenkomst wisselen we ervaringen en inzichten uit. \nDe voorzitter van deze bijeenkomst is Sandy van Spronsen. \nVoor wie \n\nJe bent werkzaam als educatieve professional in het onderwijs en neemt deel als lid van een bovenschoolse werkgroep (hoog)begaafdheid\, ofwel op bestuursniveau ofwel op niveau van een samenwerkingsverband.\nJe bent vanuit die rol betrokken bij de opzet en/of uitvoering van activiteiten met betrekking tot onderwijs aan leerlingen met kenmerken van begaafdheid binnen de organisatie waarvoor je in de werkgroep deelneemt.\n\nAantal deelnemers per sessie \n\nMinimaal 3 deelnemers van 3 verschillende samenwerkingsverbanden.\nMaximaal 12-16 personen per sessie\n\nAanwezigheid \nJe schrijft je voor elke bijeenkomst apart in. Er geldt geen aanwezigheidsplicht na inschrijving. Wel verwachten we dat als je onverhoopt verhinderd bent dat jij je afmeldt via het contactformulier op de website. \nAanmelden \nJe kunt je aanmelden via dit formulier. \n 
URL:https://kenniscentrumhb.nl/agenda/gluren-bij-de-buren-uitwisselingsbijeenkomst-samenwerkingsverbanden-onderwijs-en-zorg/
CATEGORIES:Online
END:VEVENT
BEGIN:VEVENT
DTSTART;TZID=Europe/Helsinki:20250203T150000
DTEND;TZID=Europe/Helsinki:20250203T163000
DTSTAMP:20260419T151711
CREATED:20241118T204213Z
LAST-MODIFIED:20241126T194347Z
UID:10000055-1738594800-1738600200@kenniscentrumhb.nl
SUMMARY:Literatuurbijeenkomst Identificatie van begaafdheid
DESCRIPTION:Het KCHB organiseert online literatuurbijeenkomsten om samen te sparren over literatuur/theorie over begaafdheid. We nodigen je van harte uit om je voor een of meerdere bijeenkomsten in te schrijven. \nDeelnemen is gratis! \nDoel van de bijeenkomsten\nHet doel van de bijeenkomsten is om zowel uit te wisselen wat je zou kunnen lezen\, als om je te helpen kritisch samen na te denken over wát je hebt gelezen en hoe dat kan bijdragen aan jouw eigen praktijk. Daarom hebben we de sparringsessies gekoppeld aan speciale thema’s. Zo kun je kiezen welke thema’s voor jou relevant zijn voor je professionele ontwikkeling om aan deel te nemen. \nThema van deze bijeenkomst: Identificatie van begaafdheid (voorzitter: Ragnild Zonneveld)\nOm onderwijs aan leerlingen met kenmerken van (hoog) begaafdheid passender te maken is identificatie een belangrijk thema. Dat roept meteen ook vragen op: wat identificeer je dan precies\, en op welke manier? Er zijn verschillende instrumenten die gebruikt kunnen worden\, maar daarmee worden nog steeds niet alle leerlingen goed gezien. Identificatie is ook afhankelijk van kennis en impliciete theorieën over begaafdheid. Hoe richt je het onderwijs zó in dat alle leerlingen geïdentificeerd worden? Op die vraag is geen universeel antwoord te geven. In deze literatuurkring nodigen we je uit om op basis van zelf gekozen bronnen samen te sparren over identificatie van begaafdheid \nVoorbereiding: bron kiezen\nJe kiest ZELF een bron die je wilt lezen en inbrengen. Het KCHB mag geen teksten ter beschikking stellen omdat dit mogelijk strijdig kan zijn met wetgeving inzake het auteursrecht. Onder een bron verstaan we: \n\nEen hoofdstuk uit een boek;\nEen boek;\nEen artikel (9-12 pagina’s) uit een tijdschrift;\nEen combinatie van drie artikelen die thematisch samenhangen maar elk maar 3-4 pagina’s zijn.\n\nVoorbereiding: pitch\nOm de bijeenkomst echt effectief te laten zijn verwachten we van jou een inspanning in de voorbereiding. Alle deelnemers geven tijdens de bijeenkomst een ‘pitch’ van 5 minuten over de bron van je keuze. Dat doen we in kleine groepjes zodat er na die pitch ook ruimte is om op een veilige wijze tot uitwisseling en tot samen kritisch nadenken te komen. Jouw pitch moet in elk geval aan de onderstaande drie punten voldoen. \n\nJe gaat in deze ‘pitch’ in elk geval vertellen waarom je voor een bron hebt gekozen.  Om je voor te bereiden kan het handig zijn om als eens even te kijken welke informatie we over het onderwerp van jouw keuze we al op de website hebben staan. In de brochures vind je verwijzingen naar literatuur die auteurs hebben gebruikt om hun tekst te onderbouwen. Je vind ook verwijzingen onder het kopje “meer lezen?”. Wellicht dat je daar tips en suggesties uit kunt halen om je in een thema te verdiepen. Het is natuurlijk ook goed als je zelf op eigen kracht keuzes maakt tussen artikelen of boeken (of een hoofdstuk uit een boek).\nJe gaat vertellen welke criteria je hebt gebruikt om de bron ‘te wegen’. Veel bronnen zullen zijn\, maar je moet naar de mededeelnemers wel kunnen onderbouwen waarom je dan deze keuze hebt gemaakt. Daarbij moet je instaat zijn om aan de anderen duidelijk te maken welke criteria je hebt gebruikt om die beoordeling uit te voeren. Daarom stel jij jezelf vooraf de volgende vragen: – Met welke functie wil ik dit artikel/hoofdstuk/boek lezen? – Ik wil het beoordelen op geschiktheid voor mijn eigen handelen. – Ik wil het beoordelen op geschiktheid om er collega’s mee te informeren. – Ik wil het beoordelen op geschiktheid om er ouders mee te informeren.\nJe geeft je oordeel op basis van deze criteria over de bron die je hebt gelezen.  Stel dat je al heel veel voorkennis hebt\, dan kun je die natuurlijk inzetten om informatie uit de bron die je gekozen hebt meet te vergelijken. Heb je minder theoretische kennis maar wel veel praktijkkennis dan kun je vanuit die praktijkkennis de informatie uit de bron koppelen aan je eigen praktijk.\n\nIn het afrondende plenaire deel van de bijeenkomst deel je via de chatfunctie in ZOOM de literatuurgegevens van de tekst die je gelezen hebt: naam auteur\, jaar van publicatie\, titel van artikel/boek/hoofdstuk. Bij een artikel/hoofdstuk uit een boek graag ook de volledige boektitel. Als iets is gedownload\, zorg dan ook graag de link naar de download beschikbaar is om te delen. \nMeld je hier aan…
URL:https://kenniscentrumhb.nl/agenda/literatuurbijeenkomst-identificatie-van-begaafdheid/
LOCATION:Online
CATEGORIES:Online
END:VEVENT
END:VCALENDAR