BEGIN:VCALENDAR
VERSION:2.0
PRODID:-//Kenniscentrum Hoogbegaafdheid - ECPv6.15.18//NONSGML v1.0//EN
CALSCALE:GREGORIAN
METHOD:PUBLISH
X-WR-CALNAME:Kenniscentrum Hoogbegaafdheid
X-ORIGINAL-URL:https://kenniscentrumhb.nl
X-WR-CALDESC:Evenementen voor Kenniscentrum Hoogbegaafdheid
REFRESH-INTERVAL;VALUE=DURATION:PT1H
X-Robots-Tag:noindex
X-PUBLISHED-TTL:PT1H
BEGIN:VTIMEZONE
TZID:Europe/Helsinki
BEGIN:DAYLIGHT
TZOFFSETFROM:+0200
TZOFFSETTO:+0300
TZNAME:EEST
DTSTART:20240331T010000
END:DAYLIGHT
BEGIN:STANDARD
TZOFFSETFROM:+0300
TZOFFSETTO:+0200
TZNAME:EET
DTSTART:20241027T010000
END:STANDARD
BEGIN:DAYLIGHT
TZOFFSETFROM:+0200
TZOFFSETTO:+0300
TZNAME:EEST
DTSTART:20250330T010000
END:DAYLIGHT
BEGIN:STANDARD
TZOFFSETFROM:+0300
TZOFFSETTO:+0200
TZNAME:EET
DTSTART:20251026T010000
END:STANDARD
BEGIN:DAYLIGHT
TZOFFSETFROM:+0200
TZOFFSETTO:+0300
TZNAME:EEST
DTSTART:20260329T010000
END:DAYLIGHT
BEGIN:STANDARD
TZOFFSETFROM:+0300
TZOFFSETTO:+0200
TZNAME:EET
DTSTART:20261025T010000
END:STANDARD
END:VTIMEZONE
BEGIN:VEVENT
DTSTART;TZID=Europe/Helsinki:20251107T093000
DTEND;TZID=Europe/Helsinki:20251107T170000
DTSTAMP:20260421T132556
CREATED:20250616T154036Z
LAST-MODIFIED:20251031T105226Z
UID:10000075-1762507800-1762534800@kenniscentrumhb.nl
SUMMARY:Specialisen blijven leren . Gratis congresdag voor hb-specialisten po en vo
DESCRIPTION:Inschrijven is niet meer mogelijk\, we hebben het maximum aantal deelnemers bereikt.\nVoor wie\nSpecialisten (hoog)begaafdheid in PO & VO \nThema\nSpecialisten ontdekken het al snel: wie eenmaal begonnen is met leren wil steeds verder grenzen verleggen en meer kennis en vaardigheid ontwikkelen. Het is een lange en uitdagende reis die je\, eenmaal gegrepen door een onderwerp\, bijna niet wilt en kunt stoppen. Op deze dag hebben we een rijk aanbod van gevarieerde onderwerpen. Uitgangspunt zijn de veel gestelde vragen die specialisten (hoog)begaafdheid ons het afgelopen jaar hebben voorgelegd. Uiteraard hebben we ook weer ruimte voor een uitwisselingsessie en naast de hoofdlezingen zijn er deze keer ook vier workshops te volgen. \nKosten\n\nDeelnemen is gratis en…\n…lunch\, koffie\, thee\, fris en versnaperingen zijn allemaal inbegrepen.\nDeelnemen is gratis maar…\n– We hebben slechts 140 plaatsen beschikbaar.\n– Inschrijven geschiedt op volgorde van aanmelding.\n– De mogelijkheid tot inschrijven sluit op 20 oktober 2025!\n– Kom je niet\, zeg je niet af en stuur je geen vervanger met jouw inschrijvingsbewijs? Dan ontvang je als nog een factuur van € 50\,- want daardoor is jouw plek onbenut gebleven.\n\nProgramma 7 november 2025\n09:30-10:00 Ontvangst\n10:00-10:15 Opening dagvoorzitter\n10:15-11:00 Birgit Broekhoven: Portfolio leren\n11:00-11:30 Pauze & netwerkmomentje (zaalombouw)\n11:30-12:30 Uitwisselingssessie\n12:30-13:30 Lunch\n13:30-14:30 Karine Verschueren: Sociale relaties als context voor academische ontwikkeling\n14:30-15:00 Pauze & netwerkmomentje (zaalombouw)\n15:00-16:00 Workshops \nInschrijven\nInschrijven is niet meer mogelijk\, we hebben het maximum aantal deelnemers bereikt. \n 
URL:https://kenniscentrumhb.nl/agenda/specialisen-blijven-leren-gratis-congresdag-voor-hb-specialisten-po-en-vo/
LOCATION:Aristo Lunetten\, Brennerbaan 150\, Utrecht\, Utrecht\, 3524 BN\, Nederland
CATEGORIES:Fysiek
END:VEVENT
END:VCALENDAR