BEGIN:VCALENDAR
VERSION:2.0
PRODID:-//Kenniscentrum Hoogbegaafdheid - ECPv6.15.18//NONSGML v1.0//EN
CALSCALE:GREGORIAN
METHOD:PUBLISH
X-WR-CALNAME:Kenniscentrum Hoogbegaafdheid
X-ORIGINAL-URL:https://kenniscentrumhb.nl
X-WR-CALDESC:Evenementen voor Kenniscentrum Hoogbegaafdheid
REFRESH-INTERVAL;VALUE=DURATION:PT1H
X-Robots-Tag:noindex
X-PUBLISHED-TTL:PT1H
BEGIN:VTIMEZONE
TZID:Europe/Helsinki
BEGIN:DAYLIGHT
TZOFFSETFROM:+0200
TZOFFSETTO:+0300
TZNAME:EEST
DTSTART:20250330T010000
END:DAYLIGHT
BEGIN:STANDARD
TZOFFSETFROM:+0300
TZOFFSETTO:+0200
TZNAME:EET
DTSTART:20251026T010000
END:STANDARD
BEGIN:DAYLIGHT
TZOFFSETFROM:+0200
TZOFFSETTO:+0300
TZNAME:EEST
DTSTART:20260329T010000
END:DAYLIGHT
BEGIN:STANDARD
TZOFFSETFROM:+0300
TZOFFSETTO:+0200
TZNAME:EET
DTSTART:20261025T010000
END:STANDARD
BEGIN:DAYLIGHT
TZOFFSETFROM:+0200
TZOFFSETTO:+0300
TZNAME:EEST
DTSTART:20270328T010000
END:DAYLIGHT
BEGIN:STANDARD
TZOFFSETFROM:+0300
TZOFFSETTO:+0200
TZNAME:EET
DTSTART:20271031T010000
END:STANDARD
END:VTIMEZONE
BEGIN:VEVENT
DTSTART;TZID=Europe/Helsinki:20260421T160000
DTEND;TZID=Europe/Helsinki:20260421T173000
DTSTAMP:20260421T014940
CREATED:20250624T151140Z
LAST-MODIFIED:20251024T125522Z
UID:10000120-1776787200-1776792600@kenniscentrumhb.nl
SUMMARY:Rondetafelgesprek Sociale en emotionele ontwikkeling
DESCRIPTION:De rondetafelgesprekken zijn online bijeenkomsten bedoeld voor iedereen die werkzaam is in het primair of voortgezet onderwijs en die behoefte heeft aan professionele uitwisseling van kennis en informatie en die ook graag wil deelnemen aan een regio overstijgend netwerk. \nIn dit rondetafelgesprek gaan we in op het thema sociale en emotionele ontwikkeling. Er lijkt nog steeds een mythe te bestaan\, waarin hoogbegaafde kinderen dan wel cognitief voor zijn\, maar sociaal en emotioneel vaak problemen ontwikkelen. Uit onderzoek blijkt dat er een positieve relatie is tussen sociale en emotionele ontwikkeling en gedrag\, schoolse vaardigheden en resultaten. Het is van belang om goed te kijken waar we de kinderen in kunnen ondersteunen en hoe we dat kunnen doen. Op een constructieve manier ga je het gesprek met je tafelgenoten aan en verken je hoe jouw visie zich verhoudt tot de bredere blik die ontstaat in het gesprek. \nVoorzitter is Ragnild Zonneveld. \nAanmelden\nJe kunt je hier aanmelden…
URL:https://kenniscentrumhb.nl/agenda/rondetafelgesprek-sociale-en-emotionele-ontwikkeling-2/
LOCATION:Online
CATEGORIES:Online
END:VEVENT
END:VCALENDAR