BEGIN:VCALENDAR
VERSION:2.0
PRODID:-//Kenniscentrum Hoogbegaafdheid - ECPv6.15.18//NONSGML v1.0//EN
CALSCALE:GREGORIAN
METHOD:PUBLISH
X-WR-CALNAME:Kenniscentrum Hoogbegaafdheid
X-ORIGINAL-URL:https://kenniscentrumhb.nl
X-WR-CALDESC:Evenementen voor Kenniscentrum Hoogbegaafdheid
REFRESH-INTERVAL;VALUE=DURATION:PT1H
X-Robots-Tag:noindex
X-PUBLISHED-TTL:PT1H
BEGIN:VTIMEZONE
TZID:Europe/Helsinki
BEGIN:DAYLIGHT
TZOFFSETFROM:+0200
TZOFFSETTO:+0300
TZNAME:EEST
DTSTART:20250330T010000
END:DAYLIGHT
BEGIN:STANDARD
TZOFFSETFROM:+0300
TZOFFSETTO:+0200
TZNAME:EET
DTSTART:20251026T010000
END:STANDARD
BEGIN:DAYLIGHT
TZOFFSETFROM:+0200
TZOFFSETTO:+0300
TZNAME:EEST
DTSTART:20260329T010000
END:DAYLIGHT
BEGIN:STANDARD
TZOFFSETFROM:+0300
TZOFFSETTO:+0200
TZNAME:EET
DTSTART:20261025T010000
END:STANDARD
BEGIN:DAYLIGHT
TZOFFSETFROM:+0200
TZOFFSETTO:+0300
TZNAME:EEST
DTSTART:20270328T010000
END:DAYLIGHT
BEGIN:STANDARD
TZOFFSETFROM:+0300
TZOFFSETTO:+0200
TZNAME:EET
DTSTART:20271031T010000
END:STANDARD
END:VTIMEZONE
BEGIN:VEVENT
DTSTART;TZID=Europe/Helsinki:20260204T140000
DTEND;TZID=Europe/Helsinki:20260204T170000
DTSTAMP:20260419T165219
CREATED:20250624T083847Z
LAST-MODIFIED:20251024T124150Z
UID:10000108-1770213600-1770224400@kenniscentrumhb.nl
SUMMARY:Expertmeeting Moeilijk verstaanbaar gedrag
DESCRIPTION:Afgelopen jaar zijn we begonnen met expertmeetings; daaraan nemen professionals uit onderwijs en zorg deel. De expertbijeenkomsten zijn bedoeld om ervoor te zorgen dat het KCHB vanuit het werkveld de input krijgt die nodig is om het kennisaanbod te verstevigen. Dit doen we door uit te wisselen wat er al aan informatie bekend is\, waar die te vinden is en wat er voor het werkveld nog aan informatie ontbreekt. Tevens gebruiken we deze expertsessies om aan de deelnemende experts te vragen hoe in hun achterban kennis en informatie die het KCHB aanbiedt gebruikt wordt in de praktijk. \nElke expertgroep heeft een eigen thema dat centraal staat. Voor het schooljaar 2025-2026 worden vijf verschillende groepen opgezet: \n\nMoeilijk verstaanbaar gedrag (thuis zitten\, onderpresteren\, dubbel bijzondere leerlingen)\nBrede differentiatie (peergrouponderwijs\, aanpassingen in curriculum\, versnellen)\nSociale en emotionele ontwikkeling\nOnderwijs en zorg\nJonge kinderen\n\nNam je afgelopen jaar deel aan een van deze groepen? Dan ben je dit jaar wéér van harte welkom. Zou je dit jaar voor het eerst willen deelnemen? Dat kan! Je schrijft je in via onze website. Je kunt maar aan één expertgroep deelnemen. \nDe groepen komen tussen september 2025 en juni 2026 twee keer online bij elkaar – elke bijeenkomst duurt 1\,5 uur). Daarnaast organiseren we voor de leden van deze groepen ook één bijeenkomst op locatie. Deze middag is op 4 februari 2026 tussen 14:00-17:00 uur op onze vaste locatie Aristo Lunetten in Utrecht. Daar krijg je dan t.z.t. als deelnemer aan de expertgroep een aparte uitnodiging voor. \nDe data voor de expertmeetings op het thema Moeilijk verstaanbaar gedrag\n\n6 oktober 2025 (online)\n4 februari 2026 (op locatie: Aristo Lunetten)\n26 mei 2026 (online)
URL:https://kenniscentrumhb.nl/agenda/expertmeeting-moeilijk-verstaanbaar-gedrag-2/
LOCATION:Aristo Lunetten\, Brennerbaan 150\, Utrecht\, Utrecht\, 3524 BN\, Nederland
CATEGORIES:Fysiek
END:VEVENT
BEGIN:VEVENT
DTSTART;TZID=Europe/Helsinki:20260204T140000
DTEND;TZID=Europe/Helsinki:20260204T170000
DTSTAMP:20260419T165219
CREATED:20250624T084405Z
LAST-MODIFIED:20251024T123940Z
UID:10000110-1770213600-1770224400@kenniscentrumhb.nl
SUMMARY:Expertmeeting Sociale en emotionele ontwikkeling
DESCRIPTION:Afgelopen jaar zijn we begonnen met expertmeetings; daaraan nemen professionals uit onderwijs en zorg deel. De expertbijeenkomsten zijn bedoeld om ervoor te zorgen dat het KCHB vanuit het werkveld de input krijgt die nodig is om het kennisaanbod te verstevigen. Dit doen we door uit te wisselen wat er al aan informatie bekend is\, waar die te vinden is en wat er voor het werkveld nog aan informatie ontbreekt. Tevens gebruiken we deze expertsessies om aan de deelnemende experts te vragen hoe in hun achterban kennis en informatie die het KCHB aanbiedt gebruikt wordt in de praktijk. \nElke expertgroep heeft een eigen thema dat centraal staat. Voor het schooljaar 2025-2026 worden vijf verschillende groepen opgezet: \n\n\nMoeilijk verstaanbaar gedrag (thuis zitten\, onderpresteren\, dubbel bijzondere leerlingen)\nBrede differentiatie (peergrouponderwijs\, aanpassingen in curriculum\, versnellen)\nSociale en emotionele ontwikkeling\nOnderwijs en zorg\nJonge kinderen\n\nNam je afgelopen jaar deel aan een van deze groepen? Dan ben je dit jaar wéér van harte welkom. Zou je dit jaar voor het eerst willen deelnemen? Dat kan! Je schrijft je in via onze website. Je kunt maar aan één expertgroep deelnemen. \nDe groepen komen tussen september 2025 en juni 2026 twee keer online bij elkaar – elke bijeenkomst duurt 1\,5 uur). Daarnaast organiseren we voor de leden van deze groepen ook één bijeenkomst op locatie. Deze middag is op 4 februari 2026 tussen 14:00-17:00 uur op onze vaste locatie Aristo Lunetten in Utrecht. Daar krijg je dan t.z.t. als deelnemer aan de expertgroep een aparte uitnodiging voor. \nDe data voor de expertmeetings op het thema Sociale en emotionele ontwikkeling\n\n6 oktober 2025 (online)\n4 februari 2026 (op locatie: Aristo Lunetten)\n26 mei 2026 (online)\n\n\n 
URL:https://kenniscentrumhb.nl/agenda/expertmeeting-sociale-en-emotionele-ontwikkeling-2/
LOCATION:Aristo Lunetten\, Brennerbaan 150\, Utrecht\, Utrecht\, 3524 BN\, Nederland
CATEGORIES:Fysiek
END:VEVENT
BEGIN:VEVENT
DTSTART;TZID=Europe/Helsinki:20260204T140000
DTEND;TZID=Europe/Helsinki:20260204T170000
DTSTAMP:20260419T165219
CREATED:20250624T144401Z
LAST-MODIFIED:20251024T124012Z
UID:10000112-1770213600-1770224400@kenniscentrumhb.nl
SUMMARY:Expertmeeting Brede differentiatie
DESCRIPTION:Afgelopen jaar zijn we begonnen met expertmeetings; daaraan nemen professionals uit onderwijs en zorg deel. De expertbijeenkomsten zijn bedoeld om ervoor te zorgen dat het KCHB vanuit het werkveld de input krijgt die nodig is om het kennisaanbod te verstevigen. Dit doen we door uit te wisselen wat er al aan informatie bekend is\, waar die te vinden is en wat er voor het werkveld nog aan informatie ontbreekt. Tevens gebruiken we deze expertsessies om aan de deelnemende experts te vragen hoe in hun achterban kennis en informatie die het KCHB aanbiedt gebruikt wordt in de praktijk. \nElke expertgroep heeft een eigen thema dat centraal staat. Voor het schooljaar 2025-2026 worden vijf verschillende groepen opgezet: \n\n\nMoeilijk verstaanbaar gedrag (thuis zitten\, onderpresteren\, dubbel bijzondere leerlingen)\nBrede differentiatie (peergrouponderwijs\, aanpassingen in curriculum\, versnellen)\nSociale en emotionele ontwikkeling\nOnderwijs en zorg\nJonge kinderen\n\nNam je afgelopen jaar deel aan een van deze groepen? Dan ben je dit jaar wéér van harte welkom. Zou je dit jaar voor het eerst willen deelnemen? Dat kan! Je schrijft je in via onze website. Je kunt maar aan één expertgroep deelnemen. \nDe groepen komen tussen september 2025 en juni 2026 twee keer online bij elkaar – elke bijeenkomst duurt 1\,5 uur). Daarnaast organiseren we voor de leden van deze groepen ook één bijeenkomst op locatie. Deze middag is op 4 februari 2026 tussen 14:00-17:00 uur op onze vaste locatie Aristo Lunetten in Utrecht. Daar krijg je dan t.z.t. als deelnemer aan de expertgroep een aparte uitnodiging voor. \nDe data voor de expertmeetings op het thema Brede differentiatie\n\n7 oktober 2025 (online)\n4 februari 2026 (op locatie: Aristo Lunetten)\n28 mei 2026 (online)
URL:https://kenniscentrumhb.nl/agenda/expertmeeting-brede-differentiatie-2/
LOCATION:Aristo Lunetten\, Brennerbaan 150\, Utrecht\, Utrecht\, 3524 BN\, Nederland
CATEGORIES:Fysiek
END:VEVENT
BEGIN:VEVENT
DTSTART;TZID=Europe/Helsinki:20260204T140000
DTEND;TZID=Europe/Helsinki:20260204T170000
DTSTAMP:20260419T165219
CREATED:20250624T145008Z
LAST-MODIFIED:20251024T124046Z
UID:10000114-1770213600-1770224400@kenniscentrumhb.nl
SUMMARY:Expertmeeting Het jonge kind
DESCRIPTION:Afgelopen jaar zijn we begonnen met expertmeetings; daaraan nemen professionals uit onderwijs en zorg deel. De expertbijeenkomsten zijn bedoeld om ervoor te zorgen dat het KCHB vanuit het werkveld de input krijgt die nodig is om het kennisaanbod te verstevigen. Dit doen we door uit te wisselen wat er al aan informatie bekend is\, waar die te vinden is en wat er voor het werkveld nog aan informatie ontbreekt. Tevens gebruiken we deze expertsessies om aan de deelnemende experts te vragen hoe in hun achterban kennis en informatie die het KCHB aanbiedt gebruikt wordt in de praktijk. \nElke expertgroep heeft een eigen thema dat centraal staat. Voor het schooljaar 2025-2026 worden vijf verschillende groepen opgezet: \n\n\nMoeilijk verstaanbaar gedrag (thuis zitten\, onderpresteren\, dubbel bijzondere leerlingen)\nBrede differentiatie (peergrouponderwijs\, aanpassingen in curriculum\, versnellen)\nSociale en emotionele ontwikkeling\nOnderwijs en zorg\nJonge kinderen\n\nNam je afgelopen jaar deel aan een van deze groepen? Dan ben je dit jaar wéér van harte welkom. Zou je dit jaar voor het eerst willen deelnemen? Dat kan! Je schrijft je in via onze website. Je kunt maar aan één expertgroep deelnemen. \nDe groepen komen tussen september 2025 en juni 2026 twee keer online bij elkaar – elke bijeenkomst duurt 1\,5 uur). Daarnaast organiseren we voor de leden van deze groepen ook één bijeenkomst op locatie. Deze middag is op 4 februari 2026 tussen 14:00-17:00 uur op onze vaste locatie Aristo Lunetten in Utrecht. Daar krijg je dan t.z.t. als deelnemer aan de expertgroep een aparte uitnodiging voor. \nDe data voor de expertmeetings op het thema Het jonge kind\n\n\n8 oktober 2025 (online)\n4 februari 2026 (op locatie: Aristo Lunetten)\n27 mei 2026 (online)
URL:https://kenniscentrumhb.nl/agenda/expertmeeting-het-jonge-kind/
LOCATION:Aristo Lunetten\, Brennerbaan 150\, Utrecht\, Utrecht\, 3524 BN\, Nederland
CATEGORIES:Fysiek
END:VEVENT
BEGIN:VEVENT
DTSTART;TZID=Europe/Helsinki:20260204T140000
DTEND;TZID=Europe/Helsinki:20260204T170000
DTSTAMP:20260419T165219
CREATED:20250624T145559Z
LAST-MODIFIED:20251024T124117Z
UID:10000116-1770213600-1770224400@kenniscentrumhb.nl
SUMMARY:Expertmeeting Onderwijs & zorg
DESCRIPTION:Afgelopen jaar zijn we begonnen met expertmeetings; daaraan nemen professionals uit onderwijs en zorg deel. De expertbijeenkomsten zijn bedoeld om ervoor te zorgen dat het KCHB vanuit het werkveld de input krijgt die nodig is om het kennisaanbod te verstevigen. Dit doen we door uit te wisselen wat er al aan informatie bekend is\, waar die te vinden is en wat er voor het werkveld nog aan informatie ontbreekt. Tevens gebruiken we deze expertsessies om aan de deelnemende experts te vragen hoe in hun achterban kennis en informatie die het KCHB aanbiedt gebruikt wordt in de praktijk. \nElke expertgroep heeft een eigen thema dat centraal staat. Voor het schooljaar 2025-2026 worden vijf verschillende groepen opgezet: \n\n\nMoeilijk verstaanbaar gedrag (thuis zitten\, onderpresteren\, dubbel bijzondere leerlingen)\nBrede differentiatie (peergrouponderwijs\, aanpassingen in curriculum\, versnellen)\nSociale en emotionele ontwikkeling\nOnderwijs en zorg\nJonge kinderen\n\nNam je afgelopen jaar deel aan een van deze groepen? Dan ben je dit jaar wéér van harte welkom. Zou je dit jaar voor het eerst willen deelnemen? Dat kan! Je schrijft je in via onze website. Je kunt maar aan één expertgroep deelnemen. \nDe groepen komen tussen september 2025 en juni 2026 twee keer online bij elkaar – elke bijeenkomst duurt 1\,5 uur). Daarnaast organiseren we voor de leden van deze groepen ook één bijeenkomst op locatie. Deze middag is op 4 februari 2026 tussen 14:00-17:00 uur op onze vaste locatie Aristo Lunetten in Utrecht. Daar krijg je dan t.z.t. als deelnemer aan de expertgroep een aparte uitnodiging voor. \nDe data voor de expertmeetings op het thema Onderwijs & zorg\n\n\n8 oktober 2025 (online)\n4 februari 2026 (op locatie: Aristo Lunetten)\n27 mei 2026 (online)\n\n 
URL:https://kenniscentrumhb.nl/agenda/expertmeeting-onderwijs-zorg-2/
LOCATION:Aristo Lunetten\, Brennerbaan 150\, Utrecht\, Utrecht\, 3524 BN\, Nederland
CATEGORIES:Fysiek
END:VEVENT
END:VCALENDAR