BEGIN:VCALENDAR
VERSION:2.0
PRODID:-//Kenniscentrum Hoogbegaafdheid - ECPv6.15.18//NONSGML v1.0//EN
CALSCALE:GREGORIAN
METHOD:PUBLISH
X-ORIGINAL-URL:https://kenniscentrumhb.nl
X-WR-CALDESC:Evenementen voor Kenniscentrum Hoogbegaafdheid
REFRESH-INTERVAL;VALUE=DURATION:PT1H
X-Robots-Tag:noindex
X-PUBLISHED-TTL:PT1H
BEGIN:VTIMEZONE
TZID:Europe/Helsinki
BEGIN:DAYLIGHT
TZOFFSETFROM:+0200
TZOFFSETTO:+0300
TZNAME:EEST
DTSTART:20230326T010000
END:DAYLIGHT
BEGIN:STANDARD
TZOFFSETFROM:+0300
TZOFFSETTO:+0200
TZNAME:EET
DTSTART:20231029T010000
END:STANDARD
BEGIN:DAYLIGHT
TZOFFSETFROM:+0200
TZOFFSETTO:+0300
TZNAME:EEST
DTSTART:20240331T010000
END:DAYLIGHT
BEGIN:STANDARD
TZOFFSETFROM:+0300
TZOFFSETTO:+0200
TZNAME:EET
DTSTART:20241027T010000
END:STANDARD
BEGIN:DAYLIGHT
TZOFFSETFROM:+0200
TZOFFSETTO:+0300
TZNAME:EEST
DTSTART:20250330T010000
END:DAYLIGHT
BEGIN:STANDARD
TZOFFSETFROM:+0300
TZOFFSETTO:+0200
TZNAME:EET
DTSTART:20251026T010000
END:STANDARD
END:VTIMEZONE
BEGIN:VEVENT
DTSTART;TZID=Europe/Helsinki:20241015T153000
DTEND;TZID=Europe/Helsinki:20241015T163000
DTSTAMP:20260419T195208
CREATED:20240927T114442Z
LAST-MODIFIED:20240927T134723Z
UID:10000029-1729006200-1729009800@kenniscentrumhb.nl
SUMMARY:Rondetafelgesprek thema Jonge kinderen met kenmerken van begaafdheid
DESCRIPTION:De rondetafelgesprekken zijn online bijeenkomsten bedoeld voor iedereen die werkzaam is in het primair of voortgezet onderwijs en die behoefte heeft aan professionele uitwisseling van kennis en informatie en die ook graag wil deelnemen aan een regio overstijgend netwerk. Op 15 oktober 2024 is het onderwerp Jonge kinderen met kenmerken van begaafdheid.\n \nMeedoen betekent dat je ook bereid bent om voorafgaand aan een thema de brochure over het thema te verkennen en het webinar over het onderwerp terug te kijken. De bijeenkomsten zelf worden georganiseerd via Zoom en worden NIET opgenomen. \nGratis deelname\nDeelnemen is gratis! We hebben echter maar 25 plaatsen per keer beschikbaar. Inschrijving en deelname vindt plaats op volgorde van aanmelding. Zijn er meer aanmeldingen dan we deelnemers kunnen plaatsen? Dan werken we met een wachtlijst. \nWe stellen het op prijs dat – indien je onverhoopt verhinderd bent – je ons dit ten minste twee dagen van te voren laat weten. Dan hebben we nog de kans iemand die op de wachtlijst staat in jouw plaats te laten deelnemen. Als je niet aanwezig bent en je stuurt ons geen afmelding\, dan gaan we ervan uit dat je toch niet geïnteresseerd bent en laten we voor andere bijeenkomsten waarvoor je had aangemeld jouw deelname vervallen. Dan kan iemand anders in jouw plaats deelnemen. \nSchrijf je hier in (ook voor andere rondetafelgesprekken)
URL:https://kenniscentrumhb.nl/agenda/rondetafelgesprek-thema-jonge-kinderen-met-kenmerken-van-begaafdheid/
CATEGORIES:Online
END:VEVENT
BEGIN:VEVENT
DTSTART;TZID=Europe/Helsinki:20241017T160000
DTEND;TZID=Europe/Helsinki:20241017T173000
DTSTAMP:20260419T195208
CREATED:20240703T145746Z
LAST-MODIFIED:20241001T141104Z
UID:10000012-1729180800-1729186200@kenniscentrumhb.nl
SUMMARY:Webinar Differentiatie in de regulier groep
DESCRIPTION:Ook in het schooljaar 2024-2025 organiseert het Kenniscentrum Hoogbegaafdheid elke maand een webinar. Op 17 oktober 2024 geven Manon Hulsbeek & Ellis Bronkhorst een webinar over Differentiatie in de regulier groep. Meld je hier aan… \nData van de andere webinars\n\n5 november 2024: Oberon VO over subsidie\n19 november 2024: Peergroeponderwijs\n27 november 2024: Oberon Po over subsidie\n20 januari 2025: Versnellen\n11 februari 2025: Creatief denken\n6 maart 2025: Slimme peuters\n1 april 2025: Identiteitsontwikkeling\n17 april 2025: Alternatieven als onderwijs niet past\n13 mei 2025: Slimme meisjes
URL:https://kenniscentrumhb.nl/agenda/webinar-differentieren/
LOCATION:Online
CATEGORIES:Online
END:VEVENT
BEGIN:VEVENT
DTSTART;TZID=Europe/Helsinki:20241022T163000
DTEND;TZID=Europe/Helsinki:20241022T174500
DTSTAMP:20260419T195208
CREATED:20240903T183727Z
LAST-MODIFIED:20241001T141638Z
UID:10000015-1729614600-1729619100@kenniscentrumhb.nl
SUMMARY:International webinar: Fostering Creativity in the Classroom: Teaching Creatively and Teaching for Creativity
DESCRIPTION:Dit schooljaar zal het Kenniscentrum Hoogbegaafdheid een aantal webinars organiseren met internationale experts. Daarmee willen we jullie de kans bieden om kennis te maken met nieuwe inzichten.Het eerste webinar wordt gegeven door Denise S. Fleith. \nOver het webinar\nCreativity has been considered an essential 21st century learning skill. To become adept at developing new knowledge and finding effective solutions to problems\, students need to learn to ask questions\, think divergently\, deal with contradictory ideas\, and have an open mindset. Therefore\, how can schools prepare students to appreciate different perspectives and interact respectfully with peers? The purpose of this webinar is (a) to discuss how teachers can identify creativity in the classroom and the circumstances that encourage it\, (b) to examine strategies and practices that effectively foster students’ creativity\, and (c) to reflect on learners’ thinking and behaviors that could be associated with creativity. \nOver de spreker\nDenise S. Fleith\, PhD\, is a professor in the Institute of Psychology at University of Brasilia; a researcher at the National Council for the Development of Science and Technology in Brazil; a member of the scientific and educational board of the Brazilian Network of Science for Education; and a founder member of the Brazilian Council for Giftedness. She was the vice-president and president of the World Council for Gifted and Talented Children. Her research interests are creativity development in the educational setting\, creativity measurement\, socio-emotional development of the gifted\, and family of gifted children. Dr. Fleith has published over 150 books\, chapters and articles in the fields of talent development\, creativity\, and educational psychology. \nAanmelden\nMeld je hier aan voor dit webinar…
URL:https://kenniscentrumhb.nl/agenda/international-webinar-fostering-creativity-in-the-classroom-teaching-creatively-and-teaching-for-creativity/
LOCATION:Online
CATEGORIES:Online
END:VEVENT
END:VCALENDAR